BEGIN:VCALENDAR
VERSION:2.0
PRODID:icalendar-ruby
CALSCALE:GREGORIAN
METHOD:PUBLISH
BEGIN:VEVENT
DTSTAMP:20260421T100803Z
UID:91ed21a5-01cf-4fc6-a6b1-d7849f8066f1
DTSTART:20260109T200000
DTEND:20260110T060000
DESCRIPTION:<p>On 9 January 2026 fabric London joins forces with TOYTOY and
  returns to Johannesburg for another landmark show in the And Club and Car
 fax precinct. </p><p><br></p><p>Marcel Dettmann\, Gerd Janson and Gabriell
 e Kwarteng lead the international headliner roster with over a dozen local
  superstars scattered across three rooms.</p><p><br></p><p><strong><u>room
  1</u></strong></p><ul><li>Marcel Dettmann</li><li>Gabrielle Kwarteng</li>
 <li>Black Lake x Avi Subban</li><li>Illing x Bongani Zulu</li></ul><p><br>
 </p><p><strong><u>room 2</u></strong></p><ul><li>Gerd Janson</li><li>Abby 
 Nurock</li><li>Sanetran</li><li>Pablo Lundall</li></ul><p><br></p><p><stro
 ng><u>room 3</u></strong></p><ul><li>Vinny da Vinci</li><li>Sir LSG</li><l
 i>Trancemicsoul</li><li>Cornelius SA</li><li>Karmerr</li></ul><p><br></p><
 p>Tickets can be bought in instalments at checkout</p><p><br></p><p>Right 
 of Admission Reserved</p>
LOCATION:39 Gwigwi Mrwebi Street\, Johannesburg\, Gauteng\, 2113
SUMMARY:fabric South Africa 2026 - Johannesburg
URL;VALUE=URI:https://fabric.howler.co.za/fabric-jhb
END:VEVENT
END:VCALENDAR
